Package: NormqPCR Version: 1.48.0 Command: /Library/Frameworks/R.framework/Resources/bin/R CMD check --install=check:NormqPCR.install-out.txt --library=/Library/Frameworks/R.framework/Resources/library --no-vignettes --timings NormqPCR_1.48.0.tar.gz StartedAt: 2024-04-17 21:34:35 -0400 (Wed, 17 Apr 2024) EndedAt: 2024-04-17 21:37:26 -0400 (Wed, 17 Apr 2024) EllapsedTime: 170.8 seconds RetCode: 0 Status: OK CheckDir: NormqPCR.Rcheck Warnings: 0