Package: NoRCE Version: 1.14.0 Command: /Library/Frameworks/R.framework/Resources/bin/R CMD check --install=check:NoRCE.install-out.txt --library=/Library/Frameworks/R.framework/Resources/library --no-vignettes --timings NoRCE_1.14.0.tar.gz StartedAt: 2024-04-17 21:33:08 -0400 (Wed, 17 Apr 2024) EndedAt: 2024-04-17 21:39:59 -0400 (Wed, 17 Apr 2024) EllapsedTime: 410.8 seconds RetCode: 0 Status: OK CheckDir: NoRCE.Rcheck Warnings: 0