Package: NewWave Version: 1.12.0 Command: /Library/Frameworks/R.framework/Resources/bin/R CMD INSTALL NewWave StartedAt: 2024-04-16 12:31:18 -0400 (Tue, 16 Apr 2024) EndedAt: 2024-04-16 12:31:52 -0400 (Tue, 16 Apr 2024) EllapsedTime: 34.0 seconds RetCode: 0 Status: OK