Package: NetPathMiner Version: 1.38.0 Command: /Library/Frameworks/R.framework/Resources/bin/R CMD INSTALL NetPathMiner StartedAt: 2024-04-16 10:07:14 -0400 (Tue, 16 Apr 2024) EndedAt: 2024-04-16 10:07:21 -0400 (Tue, 16 Apr 2024) EllapsedTime: 6.8 seconds RetCode: 1 Status: ERROR