Package: NanoStringNCTools Version: 1.10.1 Command: /Library/Frameworks/R.framework/Resources/bin/R CMD INSTALL NanoStringNCTools StartedAt: 2024-04-16 11:24:12 -0400 (Tue, 16 Apr 2024) EndedAt: 2024-04-16 11:24:32 -0400 (Tue, 16 Apr 2024) EllapsedTime: 20.4 seconds RetCode: 0 Status: OK