Package: NanoStringNCTools Version: 1.10.1 Command: /Library/Frameworks/R.framework/Resources/bin/R CMD check --install=check:NanoStringNCTools.install-out.txt --library=/Library/Frameworks/R.framework/Resources/library --no-vignettes --timings NanoStringNCTools_1.10.1.tar.gz StartedAt: 2024-04-17 21:11:17 -0400 (Wed, 17 Apr 2024) EndedAt: 2024-04-17 21:14:43 -0400 (Wed, 17 Apr 2024) EllapsedTime: 206.3 seconds RetCode: 0 Status: WARNINGS CheckDir: NanoStringNCTools.Rcheck Warnings: 1