Package: NanoStringNCTools Version: 1.10.1 Command: /Library/Frameworks/R.framework/Resources/bin/R CMD build --keep-empty-dirs --no-resave-data NanoStringNCTools StartedAt: 2024-04-16 22:41:37 -0400 (Tue, 16 Apr 2024) EndedAt: 2024-04-16 22:42:12 -0400 (Tue, 16 Apr 2024) EllapsedTime: 35.2 seconds RetCode: 0 Status: OK PackageFile: NanoStringNCTools_1.10.1.tar.gz PackageFileSize: 372.3 KiB