Package: NanoStringNCTools Version: 1.10.1 Command: rm -rf NanoStringNCTools.buildbin-libdir && mkdir NanoStringNCTools.buildbin-libdir && /Users/biocbuild/BBS/utils/build-universal.sh NanoStringNCTools_1.10.1.tar.gz /Library/Frameworks/R.framework/Resources/bin/R NanoStringNCTools.buildbin-libdir StartedAt: 2024-04-18 10:21:06 -0400 (Thu, 18 Apr 2024) EndedAt: 2024-04-18 10:21:33 -0400 (Thu, 18 Apr 2024) EllapsedTime: 26.9 seconds RetCode: 0 Status: OK PackageFile: NanoStringNCTools_1.10.1.tgz PackageFileSize: 954.7 KiB