Package: MultiDataSet Version: 1.30.0 Command: /Library/Frameworks/R.framework/Resources/bin/R CMD check --install=check:MultiDataSet.install-out.txt --library=/Library/Frameworks/R.framework/Resources/library --no-vignettes --timings MultiDataSet_1.30.0.tar.gz StartedAt: 2024-04-17 20:51:29 -0400 (Wed, 17 Apr 2024) EndedAt: 2024-04-17 20:54:55 -0400 (Wed, 17 Apr 2024) EllapsedTime: 206.0 seconds RetCode: 0 Status: WARNINGS CheckDir: MultiDataSet.Rcheck Warnings: 1