Package: MultiDataSet Version: 1.30.0 Command: /Library/Frameworks/R.framework/Resources/bin/R CMD build --keep-empty-dirs --no-resave-data MultiDataSet StartedAt: 2024-04-16 22:30:22 -0400 (Tue, 16 Apr 2024) EndedAt: 2024-04-16 22:31:32 -0400 (Tue, 16 Apr 2024) EllapsedTime: 70.1 seconds RetCode: 0 Status: OK PackageFile: MultiDataSet_1.30.0.tar.gz PackageFileSize: 495.4 KiB