Package: MsFeatures Version: 1.10.0 Command: /Library/Frameworks/R.framework/Resources/bin/R CMD build --keep-empty-dirs --no-resave-data MsFeatures StartedAt: 2024-04-16 22:21:36 -0400 (Tue, 16 Apr 2024) EndedAt: 2024-04-16 22:22:20 -0400 (Tue, 16 Apr 2024) EllapsedTime: 44.4 seconds RetCode: 0 Status: OK PackageFile: MsFeatures_1.10.0.tar.gz PackageFileSize: 1.214 MiB