Package: MsFeatures Version: 1.10.0 Command: rm -rf MsFeatures.buildbin-libdir && mkdir MsFeatures.buildbin-libdir && /Users/biocbuild/BBS/utils/build-universal.sh MsFeatures_1.10.0.tar.gz /Library/Frameworks/R.framework/Resources/bin/R MsFeatures.buildbin-libdir StartedAt: 2024-04-18 10:15:25 -0400 (Thu, 18 Apr 2024) EndedAt: 2024-04-18 10:15:58 -0400 (Thu, 18 Apr 2024) EllapsedTime: 32.5 seconds RetCode: 0 Status: OK PackageFile: MsFeatures_1.10.0.tgz PackageFileSize: 1.255 MiB