Package: MsDataHub Version: 1.2.0 Command: /Library/Frameworks/R.framework/Resources/bin/R CMD build --keep-empty-dirs --no-resave-data MsDataHub StartedAt: 2024-04-16 22:20:24 -0400 (Tue, 16 Apr 2024) EndedAt: 2024-04-16 22:21:58 -0400 (Tue, 16 Apr 2024) EllapsedTime: 94.3 seconds RetCode: 0 Status: OK PackageFile: MsDataHub_1.2.0.tar.gz PackageFileSize: 365.5 KiB