Package: MsBackendSql Version: 1.2.0 Command: rm -rf MsBackendSql.buildbin-libdir && mkdir MsBackendSql.buildbin-libdir && /Users/biocbuild/BBS/utils/build-universal.sh MsBackendSql_1.2.0.tar.gz /Library/Frameworks/R.framework/Resources/bin/R MsBackendSql.buildbin-libdir StartedAt: 2024-04-18 10:15:06 -0400 (Thu, 18 Apr 2024) EndedAt: 2024-04-18 10:15:25 -0400 (Thu, 18 Apr 2024) EllapsedTime: 19.2 seconds RetCode: 0 Status: OK PackageFile: MsBackendSql_1.2.0.tgz PackageFileSize: 592.5 KiB