Package: MsBackendMassbank Version: 1.10.1 Command: /Library/Frameworks/R.framework/Resources/bin/R CMD INSTALL MsBackendMassbank StartedAt: 2024-04-16 10:49:41 -0400 (Tue, 16 Apr 2024) EndedAt: 2024-04-16 10:49:55 -0400 (Tue, 16 Apr 2024) EllapsedTime: 14.1 seconds RetCode: 0 Status: OK