Package: MsBackendMassbank Version: 1.10.1 Command: /Library/Frameworks/R.framework/Resources/bin/R CMD build --keep-empty-dirs --no-resave-data MsBackendMassbank StartedAt: 2024-04-16 22:19:11 -0400 (Tue, 16 Apr 2024) EndedAt: 2024-04-16 22:19:39 -0400 (Tue, 16 Apr 2024) EllapsedTime: 28.1 seconds RetCode: 0 Status: OK PackageFile: MsBackendMassbank_1.10.1.tar.gz PackageFileSize: 418.1 KiB