Package: MouseFM Version: 1.12.0 Command: rm -rf MouseFM.buildbin-libdir && mkdir MouseFM.buildbin-libdir && /Users/biocbuild/BBS/utils/build-universal.sh MouseFM_1.12.0.tar.gz /Library/Frameworks/R.framework/Resources/bin/R MouseFM.buildbin-libdir StartedAt: 2024-04-18 10:13:53 -0400 (Thu, 18 Apr 2024) EndedAt: 2024-04-18 10:14:22 -0400 (Thu, 18 Apr 2024) EllapsedTime: 28.5 seconds RetCode: 0 Status: OK PackageFile: MouseFM_1.12.0.tgz PackageFileSize: 829.5 KiB