Package: Moonlight2R Version: 1.0.0 Command: rm -rf Moonlight2R.buildbin-libdir && mkdir Moonlight2R.buildbin-libdir && /Users/biocbuild/BBS/utils/build-universal.sh Moonlight2R_1.0.0.tar.gz /Library/Frameworks/R.framework/Resources/bin/R Moonlight2R.buildbin-libdir StartedAt: 2024-04-18 10:11:59 -0400 (Thu, 18 Apr 2024) EndedAt: 2024-04-18 10:13:19 -0400 (Thu, 18 Apr 2024) EllapsedTime: 80.1 seconds RetCode: 0 Status: OK PackageFile: Moonlight2R_1.0.0.tgz PackageFileSize: 4.262 MiB