Package: Modstrings Version: 1.18.0 Command: /Library/Frameworks/R.framework/Resources/bin/R CMD build --keep-empty-dirs --no-resave-data Modstrings StartedAt: 2024-04-16 22:05:59 -0400 (Tue, 16 Apr 2024) EndedAt: 2024-04-16 22:06:34 -0400 (Tue, 16 Apr 2024) EllapsedTime: 35.2 seconds RetCode: 0 Status: OK PackageFile: Modstrings_1.18.0.tar.gz PackageFileSize: 823.5 KiB