Package: MinimumDistance Version: 1.46.0 Command: /Library/Frameworks/R.framework/Resources/bin/R CMD build --keep-empty-dirs --no-resave-data MinimumDistance StartedAt: 2024-04-16 21:49:43 -0400 (Tue, 16 Apr 2024) EndedAt: 2024-04-16 21:51:27 -0400 (Tue, 16 Apr 2024) EllapsedTime: 104.7 seconds RetCode: 0 Status: OK PackageFile: MinimumDistance_1.46.0.tar.gz PackageFileSize: 2.552 MiB