Package: MineICA Version: 1.42.0 Command: /Library/Frameworks/R.framework/Resources/bin/R CMD check --install=check:MineICA.install-out.txt --library=/Library/Frameworks/R.framework/Resources/library --no-vignettes --timings MineICA_1.42.0.tar.gz StartedAt: 2024-04-17 19:35:57 -0400 (Wed, 17 Apr 2024) EndedAt: 2024-04-17 19:41:06 -0400 (Wed, 17 Apr 2024) EllapsedTime: 309.2 seconds RetCode: 0 Status: WARNINGS CheckDir: MineICA.Rcheck Warnings: 3