Package: MiPP Version: 1.74.0 Maintainer: Sukwoo Kim MaintainerEmail: s4kim at korea.ac.kr git_url: https://git.bioconductor.org/packages/MiPP git_branch: RELEASE_3_18 git_last_commit: 6d11cd8 git_last_commit_date: 2023-10-24 09:34:59 -0400 (Tue, 24 Oct 2023)