Package: Mfuzz Version: 2.62.0 Command: rm -rf Mfuzz.buildbin-libdir && mkdir Mfuzz.buildbin-libdir && /Users/biocbuild/BBS/utils/build-universal.sh Mfuzz_2.62.0.tar.gz /Library/Frameworks/R.framework/Resources/bin/R Mfuzz.buildbin-libdir StartedAt: 2024-04-18 10:05:53 -0400 (Thu, 18 Apr 2024) EndedAt: 2024-04-18 10:06:02 -0400 (Thu, 18 Apr 2024) EllapsedTime: 9.1 seconds RetCode: 0 Status: OK PackageFile: Mfuzz_2.62.0.tgz PackageFileSize: 853.2 KiB