Package: MethylSeekR Version: 1.42.0 Command: /Library/Frameworks/R.framework/Resources/bin/R CMD INSTALL MethylSeekR StartedAt: 2024-04-16 10:51:49 -0400 (Tue, 16 Apr 2024) EndedAt: 2024-04-16 10:52:28 -0400 (Tue, 16 Apr 2024) EllapsedTime: 39.4 seconds RetCode: 0 Status: OK