Package: MethylSeekR Version: 1.42.0 Command: /Library/Frameworks/R.framework/Resources/bin/R CMD check --install=check:MethylSeekR.install-out.txt --library=/Library/Frameworks/R.framework/Resources/library --no-vignettes --timings MethylSeekR_1.42.0.tar.gz StartedAt: 2024-04-17 19:12:26 -0400 (Wed, 17 Apr 2024) EndedAt: 2024-04-17 19:19:39 -0400 (Wed, 17 Apr 2024) EllapsedTime: 433.3 seconds RetCode: 0 Status: OK CheckDir: MethylSeekR.Rcheck Warnings: 0