Package: MethylSeekR Version: 1.42.0 Command: /Library/Frameworks/R.framework/Resources/bin/R CMD build --keep-empty-dirs --no-resave-data MethylSeekR StartedAt: 2024-04-16 21:39:20 -0400 (Tue, 16 Apr 2024) EndedAt: 2024-04-16 21:41:24 -0400 (Tue, 16 Apr 2024) EllapsedTime: 124.1 seconds RetCode: 0 Status: OK PackageFile: MethylSeekR_1.42.0.tar.gz PackageFileSize: 1.594 MiB