Package: MethylAid Version: 1.36.0 Command: rm -rf MethylAid.buildbin-libdir && mkdir MethylAid.buildbin-libdir && /Users/biocbuild/BBS/utils/build-universal.sh MethylAid_1.36.0.tar.gz /Library/Frameworks/R.framework/Resources/bin/R MethylAid.buildbin-libdir StartedAt: 2024-04-18 10:02:58 -0400 (Thu, 18 Apr 2024) EndedAt: 2024-04-18 10:04:10 -0400 (Thu, 18 Apr 2024) EllapsedTime: 72.4 seconds RetCode: 0 Status: OK PackageFile: MethylAid_1.36.0.tgz PackageFileSize: 3.277 MiB