Package: MethReg Version: 1.12.0 Command: /Library/Frameworks/R.framework/Resources/bin/R CMD build --keep-empty-dirs --no-resave-data MethReg StartedAt: 2024-04-16 21:28:21 -0400 (Tue, 16 Apr 2024) EndedAt: 2024-04-16 21:29:52 -0400 (Tue, 16 Apr 2024) EllapsedTime: 90.7 seconds RetCode: 1 Status: ERROR PackageFile: None PackageFileSize: NA