Package: MetaboCoreUtils Version: 1.10.0 Command: /Library/Frameworks/R.framework/Resources/bin/R CMD INSTALL MetaboCoreUtils StartedAt: 2024-04-16 10:10:10 -0400 (Tue, 16 Apr 2024) EndedAt: 2024-04-16 10:10:22 -0400 (Tue, 16 Apr 2024) EllapsedTime: 11.4 seconds RetCode: 0 Status: OK