Package: Metab Version: 1.36.0 Command: /Library/Frameworks/R.framework/Resources/bin/R CMD build --keep-empty-dirs --no-resave-data Metab StartedAt: 2024-04-16 21:16:57 -0400 (Tue, 16 Apr 2024) EndedAt: 2024-04-16 21:18:08 -0400 (Tue, 16 Apr 2024) EllapsedTime: 71.2 seconds RetCode: 1 Status: ERROR PackageFile: None PackageFileSize: NA