Package: MetID Version: 1.20.0 Command: rm -rf MetID.buildbin-libdir && mkdir MetID.buildbin-libdir && /Users/biocbuild/BBS/utils/build-universal.sh MetID_1.20.0.tar.gz /Library/Frameworks/R.framework/Resources/bin/R MetID.buildbin-libdir StartedAt: 2024-04-18 10:05:34 -0400 (Thu, 18 Apr 2024) EndedAt: 2024-04-18 10:05:53 -0400 (Thu, 18 Apr 2024) EllapsedTime: 19.0 seconds RetCode: 0 Status: OK PackageFile: MetID_1.20.0.tgz PackageFileSize: 1.859 MiB