Package: MeasurementError.cor Version: 1.74.0 Command: rm -rf MeasurementError.cor.buildbin-libdir && mkdir MeasurementError.cor.buildbin-libdir && /Users/biocbuild/BBS/utils/build-universal.sh MeasurementError.cor_1.74.0.tar.gz /Library/Frameworks/R.framework/Resources/bin/R MeasurementError.cor.buildbin-libdir StartedAt: 2024-04-18 09:58:57 -0400 (Thu, 18 Apr 2024) EndedAt: 2024-04-18 09:59:01 -0400 (Thu, 18 Apr 2024) EllapsedTime: 4.6 seconds RetCode: 0 Status: OK PackageFile: MeasurementError.cor_1.74.0.tgz PackageFileSize: 173.4 KiB