Package: MVCClass Version: 1.76.0 Command: /Library/Frameworks/R.framework/Resources/bin/R CMD check --install=check:MVCClass.install-out.txt --library=/Library/Frameworks/R.framework/Resources/library --no-vignettes --timings MVCClass_1.76.0.tar.gz StartedAt: 2024-04-17 21:01:08 -0400 (Wed, 17 Apr 2024) EndedAt: 2024-04-17 21:01:34 -0400 (Wed, 17 Apr 2024) EllapsedTime: 25.9 seconds RetCode: 0 Status: OK CheckDir: MVCClass.Rcheck Warnings: 0