Package: MVCClass Version: 1.76.0 Command: /Library/Frameworks/R.framework/Resources/bin/R CMD build --keep-empty-dirs --no-resave-data MVCClass StartedAt: 2024-04-16 22:38:03 -0400 (Tue, 16 Apr 2024) EndedAt: 2024-04-16 22:38:15 -0400 (Tue, 16 Apr 2024) EllapsedTime: 11.3 seconds RetCode: 0 Status: OK PackageFile: MVCClass_1.76.0.tar.gz PackageFileSize: 1.031 MiB