Package: MSstatsShiny Version: 1.4.3 Command: /Library/Frameworks/R.framework/Resources/bin/R CMD INSTALL MSstatsShiny StartedAt: 2024-04-16 12:19:36 -0400 (Tue, 16 Apr 2024) EndedAt: 2024-04-16 12:20:08 -0400 (Tue, 16 Apr 2024) EllapsedTime: 32.1 seconds RetCode: 0 Status: OK