Package: MSstatsShiny Version: 1.4.3 Command: /Library/Frameworks/R.framework/Resources/bin/R CMD check --install=check:MSstatsShiny.install-out.txt --library=/Library/Frameworks/R.framework/Resources/library --no-vignettes --timings MSstatsShiny_1.4.3.tar.gz StartedAt: 2024-04-17 20:48:43 -0400 (Wed, 17 Apr 2024) EndedAt: 2024-04-17 20:52:43 -0400 (Wed, 17 Apr 2024) EllapsedTime: 239.2 seconds RetCode: 0 Status: OK CheckDir: MSstatsShiny.Rcheck Warnings: 0