Package: MSstatsShiny Version: 1.4.3 Command: /Library/Frameworks/R.framework/Resources/bin/R CMD build --keep-empty-dirs --no-resave-data MSstatsShiny StartedAt: 2024-04-16 22:28:20 -0400 (Tue, 16 Apr 2024) EndedAt: 2024-04-16 22:29:08 -0400 (Tue, 16 Apr 2024) EllapsedTime: 48.7 seconds RetCode: 0 Status: OK PackageFile: MSstatsShiny_1.4.3.tar.gz PackageFileSize: 2.16 MiB