Package: MSstatsQC Version: 2.20.0 Command: /Library/Frameworks/R.framework/Resources/bin/R CMD INSTALL MSstatsQC StartedAt: 2024-04-16 11:45:43 -0400 (Tue, 16 Apr 2024) EndedAt: 2024-04-16 11:46:05 -0400 (Tue, 16 Apr 2024) EllapsedTime: 22.8 seconds RetCode: 0 Status: OK