Package: MSstatsQC Version: 2.20.0 Command: /Library/Frameworks/R.framework/Resources/bin/R CMD check --install=check:MSstatsQC.install-out.txt --library=/Library/Frameworks/R.framework/Resources/library --no-vignettes --timings MSstatsQC_2.20.0.tar.gz StartedAt: 2024-04-17 20:46:05 -0400 (Wed, 17 Apr 2024) EndedAt: 2024-04-17 20:49:55 -0400 (Wed, 17 Apr 2024) EllapsedTime: 229.9 seconds RetCode: 0 Status: OK CheckDir: MSstatsQC.Rcheck Warnings: 0