Package: MSstatsQC Version: 2.20.0 Command: /Library/Frameworks/R.framework/Resources/bin/R CMD build --keep-empty-dirs --no-resave-data MSstatsQC StartedAt: 2024-04-16 22:27:49 -0400 (Tue, 16 Apr 2024) EndedAt: 2024-04-16 22:28:41 -0400 (Tue, 16 Apr 2024) EllapsedTime: 51.6 seconds RetCode: 0 Status: OK PackageFile: MSstatsQC_2.20.0.tar.gz PackageFileSize: 2.295 MiB