Package: MSstatsQC Version: 2.20.0 Command: rm -rf MSstatsQC.buildbin-libdir && mkdir MSstatsQC.buildbin-libdir && /Users/biocbuild/BBS/utils/build-universal.sh MSstatsQC_2.20.0.tar.gz /Library/Frameworks/R.framework/Resources/bin/R MSstatsQC.buildbin-libdir StartedAt: 2024-04-18 10:17:33 -0400 (Thu, 18 Apr 2024) EndedAt: 2024-04-18 10:18:00 -0400 (Thu, 18 Apr 2024) EllapsedTime: 27.3 seconds RetCode: 0 Status: OK PackageFile: MSstatsQC_2.20.0.tgz PackageFileSize: 2.368 MiB