Package: MSstatsPTM Version: 2.4.4 Command: /Library/Frameworks/R.framework/Resources/bin/R CMD INSTALL MSstatsPTM StartedAt: 2024-04-16 12:18:02 -0400 (Tue, 16 Apr 2024) EndedAt: 2024-04-16 12:18:37 -0400 (Tue, 16 Apr 2024) EllapsedTime: 35.3 seconds RetCode: 0 Status: OK