Package: MSstatsPTM Version: 2.4.4 Command: /Library/Frameworks/R.framework/Resources/bin/R CMD check --install=check:MSstatsPTM.install-out.txt --library=/Library/Frameworks/R.framework/Resources/library --no-vignettes --timings MSstatsPTM_2.4.4.tar.gz StartedAt: 2024-04-17 20:45:27 -0400 (Wed, 17 Apr 2024) EndedAt: 2024-04-17 20:49:08 -0400 (Wed, 17 Apr 2024) EllapsedTime: 220.6 seconds RetCode: 0 Status: OK CheckDir: MSstatsPTM.Rcheck Warnings: 0