Package: MSstatsPTM Version: 2.4.4 Command: rm -rf MSstatsPTM.buildbin-libdir && mkdir MSstatsPTM.buildbin-libdir && /Users/biocbuild/BBS/utils/build-universal.sh MSstatsPTM_2.4.4.tar.gz /Library/Frameworks/R.framework/Resources/bin/R MSstatsPTM.buildbin-libdir StartedAt: 2024-04-18 10:17:26 -0400 (Thu, 18 Apr 2024) EndedAt: 2024-04-18 10:18:10 -0400 (Thu, 18 Apr 2024) EllapsedTime: 44.5 seconds RetCode: 0 Status: OK PackageFile: MSstatsPTM_2.4.4.tgz PackageFileSize: 3.135 MiB