Package: MSstatsBig Version: 1.0.1 Command: /Library/Frameworks/R.framework/Resources/bin/R CMD INSTALL MSstatsBig StartedAt: 2024-04-16 11:59:17 -0400 (Tue, 16 Apr 2024) EndedAt: 2024-04-16 11:59:29 -0400 (Tue, 16 Apr 2024) EllapsedTime: 12.1 seconds RetCode: 0 Status: OK