Package: MSstatsBig Version: 1.0.1 Command: rm -rf MSstatsBig.buildbin-libdir && mkdir MSstatsBig.buildbin-libdir && /Users/biocbuild/BBS/utils/build-universal.sh MSstatsBig_1.0.1.tar.gz /Library/Frameworks/R.framework/Resources/bin/R MSstatsBig.buildbin-libdir StartedAt: 2024-04-18 10:17:09 -0400 (Thu, 18 Apr 2024) EndedAt: 2024-04-18 10:17:26 -0400 (Thu, 18 Apr 2024) EllapsedTime: 17.1 seconds RetCode: 0 Status: OK PackageFile: MSstatsBig_1.0.1.tgz PackageFileSize: 94.51 KiB