Package: MSA2dist Version: 1.6.0 Command: /Library/Frameworks/R.framework/Resources/bin/R CMD build --keep-empty-dirs --no-resave-data MSA2dist StartedAt: 2024-04-16 22:18:55 -0400 (Tue, 16 Apr 2024) EndedAt: 2024-04-16 22:20:33 -0400 (Tue, 16 Apr 2024) EllapsedTime: 98.3 seconds RetCode: 0 Status: OK PackageFile: MSA2dist_1.6.0.tar.gz PackageFileSize: 869.2 KiB