Package: MQmetrics Version: 1.10.0 Command: /Library/Frameworks/R.framework/Resources/bin/R CMD check --install=check:MQmetrics.install-out.txt --library=/Library/Frameworks/R.framework/Resources/library --no-vignettes --timings MQmetrics_1.10.0.tar.gz StartedAt: 2024-03-06 20:12:50 -0500 (Wed, 06 Mar 2024) EndedAt: 2024-03-06 20:14:46 -0500 (Wed, 06 Mar 2024) EllapsedTime: 115.5 seconds RetCode: 0 Status: OK CheckDir: MQmetrics.Rcheck Warnings: 0