Package: MQmetrics Version: 1.10.0 Command: /Library/Frameworks/R.framework/Resources/bin/R CMD build --keep-empty-dirs --no-resave-data MQmetrics StartedAt: 2024-04-16 22:18:39 -0400 (Tue, 16 Apr 2024) EndedAt: 2024-04-16 22:18:55 -0400 (Tue, 16 Apr 2024) EllapsedTime: 15.8 seconds RetCode: 1 Status: ERROR PackageFile: None PackageFileSize: NA