Package: MPRAnalyze Version: 1.20.0 Command: /Library/Frameworks/R.framework/Resources/bin/R CMD check --install=check:MPRAnalyze.install-out.txt --library=/Library/Frameworks/R.framework/Resources/library --no-vignettes --timings MPRAnalyze_1.20.0.tar.gz StartedAt: 2024-04-17 20:24:47 -0400 (Wed, 17 Apr 2024) EndedAt: 2024-04-17 20:28:12 -0400 (Wed, 17 Apr 2024) EllapsedTime: 205.8 seconds RetCode: 0 Status: OK CheckDir: MPRAnalyze.Rcheck Warnings: 0